BEGIN:VCALENDAR
VERSION:2.0
PRODID:spatie/icalendar-generator
DESCRIPTION:Veranstaltungen von Jürgen Lange
X-WR-CALDESC:Veranstaltungen von Jürgen Lange
REFRESH-INTERVAL;VALUE=DURATION:PT1440M
X-PUBLISHED-TTL:PT1440M
BEGIN:VTIMEZONE
TZID:Europe/Berlin
BEGIN:DAYLIGHT
DTSTART:20230326T020000Z
TZOFFSETFROM:+0100
TZOFFSETTO:+0200
END:DAYLIGHT
BEGIN:STANDARD
DTSTART:20231029T030000Z
TZOFFSETFROM:+0200
TZOFFSETTO:+0100
END:STANDARD
BEGIN:DAYLIGHT
DTSTART:20240331T020000Z
TZOFFSETFROM:+0100
TZOFFSETTO:+0200
END:DAYLIGHT
END:VTIMEZONE
BEGIN:VTIMEZONE
TZID:UTC
BEGIN:STANDARD
DTSTART:20250727T193033Z
TZOFFSETFROM:+0000
TZOFFSETTO:+0000
END:STANDARD
END:VTIMEZONE
BEGIN:VEVENT
UID:66-50
DTSTAMP:20260423T193033Z
SUMMARY:Adventsfloristik bei Blumen Hecktor
LOCATION:Blumen-Hecktor Legienstraße 3  Frankfurt am Main  65929
ORGANIZER;CN=Jürgen Lange:MAILTO:jl@juergen-lange.de
DTSTART;TZID=Europe/Berlin;VALUE=DATE:20231122
DTEND;TZID=Europe/Berlin;VALUE=DATE:20231224
X-ALT-DESC;FMTTYPE=TEXT/HTML:Adventsfloristik gibt es auch in diesem Jahr w
 ieder bei Blumen Hecktor. Geänderte Öffnungszeiten ersehen Sie aus dem L
 ink: https://www.blumen-hecktor.de/adventsfloristk/
CATEGORIES:Veranstaltung
URL;VALUE=URI:https://www.juergen-lange.de/mc-events/adventsfloristik-bei-b
 lumen-hecktor
METHOD:PUBLISH
END:VEVENT
END:VCALENDAR