BEGIN:VCALENDAR
VERSION:2.0
PRODID:spatie/icalendar-generator
DESCRIPTION:Veranstaltungen von Jürgen Lange
X-WR-CALDESC:Veranstaltungen von Jürgen Lange
REFRESH-INTERVAL;VALUE=DURATION:PT1440M
X-PUBLISHED-TTL:PT1440M
BEGIN:VTIMEZONE
TZID:Europe/Berlin
BEGIN:DAYLIGHT
DTSTART:20230326T020000Z
TZOFFSETFROM:+0100
TZOFFSETTO:+0200
END:DAYLIGHT
BEGIN:STANDARD
DTSTART:20231029T030000Z
TZOFFSETFROM:+0200
TZOFFSETTO:+0100
END:STANDARD
BEGIN:DAYLIGHT
DTSTART:20240331T020000Z
TZOFFSETFROM:+0100
TZOFFSETTO:+0200
END:DAYLIGHT
END:VTIMEZONE
BEGIN:VTIMEZONE
TZID:UTC
BEGIN:STANDARD
DTSTART:20250727T230319Z
TZOFFSETFROM:+0000
TZOFFSETTO:+0000
END:STANDARD
END:VTIMEZONE
BEGIN:VEVENT
UID:64-48
DTSTAMP:20260423T230319Z
SUMMARY:Babbelstubb im Volkshaus Sossenheim
LOCATION:Volkshaus Sossenheim Siegener Straße 22  Frankfurt am Main  65936
ORGANIZER;CN=Jürgen Lange:MAILTO:jl@juergen-lange.de
DTSTART;TZID=Europe/Berlin:20231113T150000
DTEND;TZID=Europe/Berlin:20231113T180000
X-ALT-DESC;FMTTYPE=TEXT/HTML:Am Montag\, dem 13.11.2023. 15:00 bis 18:00 Uh
 r\, trifft sich wieder die Babbelstubb. An diesem Nachmittag stehen neben 
 Gebabbel auch Spiele auf dem Programm. Welche dies sein werden\, ist eine 
 Überraschung: Die Spiele werden mitgebracht und es verspricht eine kurzwe
 ilige Zeit zu werden.
CATEGORIES:Veranstaltung
URL;VALUE=URI:https://www.juergen-lange.de/mc-events/babbelstubb-im-volksha
 us-sossenheim
METHOD:PUBLISH
END:VEVENT
END:VCALENDAR