BEGIN:VCALENDAR
VERSION:2.0
PRODID:spatie/icalendar-generator
DESCRIPTION:Veranstaltungen von Jürgen Lange
X-WR-CALDESC:Veranstaltungen von Jürgen Lange
REFRESH-INTERVAL;VALUE=DURATION:PT1440M
X-PUBLISHED-TTL:PT1440M
BEGIN:VTIMEZONE
TZID:Europe/Berlin
BEGIN:DAYLIGHT
DTSTART:20230326T020000Z
TZOFFSETFROM:+0100
TZOFFSETTO:+0200
END:DAYLIGHT
BEGIN:STANDARD
DTSTART:20231029T030000Z
TZOFFSETFROM:+0200
TZOFFSETTO:+0100
END:STANDARD
BEGIN:DAYLIGHT
DTSTART:20240331T020000Z
TZOFFSETFROM:+0100
TZOFFSETTO:+0200
END:DAYLIGHT
END:VTIMEZONE
BEGIN:VTIMEZONE
TZID:UTC
BEGIN:STANDARD
DTSTART:20250728T021038Z
TZOFFSETFROM:+0000
TZOFFSETTO:+0000
END:STANDARD
END:VTIMEZONE
BEGIN:VEVENT
UID:53-39
DTSTAMP:20260424T021038Z
SUMMARY:Frühschoppen der JazzFreunde Höchst mit den Hot Four
LOCATION:Schlosshof Höchst Schlossplatz 16  Frankfurt am Main  65929
ORGANIZER;CN=Jürgen Lange:MAILTO:jl@juergen-lange.de
DTSTART;TZID=Europe/Berlin:20231003T110000
DTEND;TZID=Europe/Berlin:20231003T120000
X-ALT-DESC;FMTTYPE=TEXT/HTML:Die Hot Four im Schlosshof des Alten Höchster
  Schlosses beim wahrscheinlich letzten Frühschoppen der JazzFreunde Höch
 st in diesem Jahr. Die heißen Vier spielen den Jazz der 20er- und 30-Jahr
 e gesprengelt mit moderneren Anklängen und immer einer Portion Augenzwink
 ern.
CATEGORIES:Musik
URL;VALUE=URI:https://www.juergen-lange.de/mc-events/fruehschoppen-der-jazz
 freunde-hoechst-mit-den-hot-four
METHOD:PUBLISH
END:VEVENT
END:VCALENDAR