BEGIN:VCALENDAR
VERSION:2.0
PRODID:spatie/icalendar-generator
DESCRIPTION:Veranstaltungen von Jürgen Lange
X-WR-CALDESC:Veranstaltungen von Jürgen Lange
REFRESH-INTERVAL;VALUE=DURATION:PT1440M
X-PUBLISHED-TTL:PT1440M
BEGIN:VTIMEZONE
TZID:Europe/Berlin
BEGIN:DAYLIGHT
DTSTART:20230326T020000Z
TZOFFSETFROM:+0100
TZOFFSETTO:+0200
END:DAYLIGHT
BEGIN:STANDARD
DTSTART:20231029T030000Z
TZOFFSETFROM:+0200
TZOFFSETTO:+0100
END:STANDARD
END:VTIMEZONE
BEGIN:VTIMEZONE
TZID:UTC
BEGIN:STANDARD
DTSTART:20250728T002224Z
TZOFFSETFROM:+0000
TZOFFSETTO:+0000
END:STANDARD
END:VTIMEZONE
BEGIN:VEVENT
UID:52-38
DTSTAMP:20260424T002224Z
SUMMARY:Unterliederbacher Michelskerb
LOCATION:Marktplatz Unterliederbach\, Wagengasse   Frankfurt am Main  65929
ORGANIZER;CN=Jürgen Lange:MAILTO:jl@juergen-lange.de
DTSTART;TZID=Europe/Berlin;VALUE=DATE:20230923
DTEND;TZID=Europe/Berlin;VALUE=DATE:20230926
X-ALT-DESC;FMTTYPE=TEXT/HTML:Vom Samstag\, dem 23.09.2023\, bis Montag\, de
 m 25.09.2023 feiern die Unterliederbacher Vereine in der Wagengasse\, an d
 er historischen Dorfkirche und auf dem Unterliederbacher Marktplatz die tr
 aditionelle Michelskerb. Am Samstag\, dem 23.09.2022\, beginnt die Kerb um
  15 Uhr. Der „Musikverein 1959 e.V“ wird um 15 Uhr in der Wagengasse d
 ie Kerb offiziell musikalisch eröffnen. Als besonders&amp;hellip\;
CATEGORIES:Veranstaltung
URL;VALUE=URI:https://www.juergen-lange.de/mc-events/unterliederbacher-mich
 elskerb
METHOD:PUBLISH
END:VEVENT
END:VCALENDAR