BEGIN:VCALENDAR
VERSION:2.0
PRODID:spatie/icalendar-generator
DESCRIPTION:Veranstaltungen von Jürgen Lange
X-WR-CALDESC:Veranstaltungen von Jürgen Lange
REFRESH-INTERVAL;VALUE=DURATION:PT1440M
X-PUBLISHED-TTL:PT1440M
BEGIN:VTIMEZONE
TZID:Europe/Berlin
BEGIN:DAYLIGHT
DTSTART:20230326T020000Z
TZOFFSETFROM:+0100
TZOFFSETTO:+0200
END:DAYLIGHT
BEGIN:STANDARD
DTSTART:20231029T030000Z
TZOFFSETFROM:+0200
TZOFFSETTO:+0100
END:STANDARD
END:VTIMEZONE
BEGIN:VTIMEZONE
TZID:UTC
BEGIN:STANDARD
DTSTART:20250728T001349Z
TZOFFSETFROM:+0000
TZOFFSETTO:+0000
END:STANDARD
END:VTIMEZONE
BEGIN:VEVENT
UID:51-37
DTSTAMP:20260424T001349Z
SUMMARY:Führung durch franconofurd
LOCATION:Frankfurt am Main\, Altstadt    Frankfurt am Main   60313
ORGANIZER;CN=Jürgen Lange:MAILTO:jl@juergen-lange.de
DTSTART;TZID=Europe/Berlin:20230909T150000
DTEND;TZID=Europe/Berlin:20230909T160000
X-ALT-DESC;FMTTYPE=TEXT/HTML:Die Kaiserpfalz franconofurd bietet ein einzig
 artiges archäologisches Schaufenster in die Ursprünge der Stadt Frankfur
 t: ein römisches Bad\, die Mauern des karolingischen Königshofes\, spät
 mittelalterliche Keller – Spuren aus rund 2000 Jahren Frankfurter Geschi
 chte. Während der Führung am Samstag\, 9. September\, um 15 Uhr erfährt
  man von Jürgen Hodske mehr über die ältesten Gebäudereste im Herzen d
 er&amp;hellip\;
CATEGORIES:Führung
URL;VALUE=URI:https://www.juergen-lange.de/mc-events/fuehrung-durch-francon
 ofurd
METHOD:PUBLISH
END:VEVENT
END:VCALENDAR