BEGIN:VCALENDAR
VERSION:2.0
PRODID:spatie/icalendar-generator
DESCRIPTION:Veranstaltungen von Jürgen Lange
X-WR-CALDESC:Veranstaltungen von Jürgen Lange
REFRESH-INTERVAL;VALUE=DURATION:PT1440M
X-PUBLISHED-TTL:PT1440M
BEGIN:VTIMEZONE
TZID:Europe/Berlin
BEGIN:DAYLIGHT
DTSTART:20230326T020000Z
TZOFFSETFROM:+0100
TZOFFSETTO:+0200
END:DAYLIGHT
BEGIN:STANDARD
DTSTART:20231029T030000Z
TZOFFSETFROM:+0200
TZOFFSETTO:+0100
END:STANDARD
END:VTIMEZONE
BEGIN:VTIMEZONE
TZID:UTC
BEGIN:STANDARD
DTSTART:20250727T222234Z
TZOFFSETFROM:+0000
TZOFFSETTO:+0000
END:STANDARD
END:VTIMEZONE
BEGIN:VEVENT
UID:31-29
DTSTAMP:20260423T222234Z
SUMMARY:31. Unterliederbacher Parkfest
LOCATION:Vereinsringhaus Unterliederbach Liederbacher Straße 137  Frankfur
 t am Main  65929
ORGANIZER;CN=Jürgen Lange:MAILTO:jl@juergen-lange.de
DTSTART;TZID=Europe/Berlin:20230903T140000
DTEND;TZID=Europe/Berlin:20230903T233000
X-ALT-DESC;FMTTYPE=TEXT/HTML:Das alljährliche Parkfest auf dem Gelände de
 s Vereinsrings dient als Dankeschön für die vielfältigen ehrenamtlichen
  Aktivitäten der Vereinsmitglieder und dem gegenseitigen Austausch. Für 
 Kaffee und Kuchen\, Gegrilltem und Kaltgetränke wird gesorgt sein. Gäste
  aus dem Stadtteil und den Nachbarstadtteilen sind gerne gesehen.
CATEGORIES:Veranstaltung
URL;VALUE=URI:https://www.juergen-lange.de/mc-events/31-unterliederbacher-p
 arkfest
METHOD:PUBLISH
END:VEVENT
END:VCALENDAR