BEGIN:VCALENDAR
VERSION:2.0
PRODID:spatie/icalendar-generator
DESCRIPTION:Veranstaltungen von Jürgen Lange
X-WR-CALDESC:Veranstaltungen von Jürgen Lange
REFRESH-INTERVAL;VALUE=DURATION:PT1440M
X-PUBLISHED-TTL:PT1440M
BEGIN:VTIMEZONE
TZID:Europe/Berlin
BEGIN:DAYLIGHT
DTSTART:20230326T020000Z
TZOFFSETFROM:+0100
TZOFFSETTO:+0200
END:DAYLIGHT
BEGIN:STANDARD
DTSTART:20231029T030000Z
TZOFFSETFROM:+0200
TZOFFSETTO:+0100
END:STANDARD
BEGIN:DAYLIGHT
DTSTART:20240331T020000Z
TZOFFSETFROM:+0100
TZOFFSETTO:+0200
END:DAYLIGHT
END:VTIMEZONE
BEGIN:VTIMEZONE
TZID:UTC
BEGIN:STANDARD
DTSTART:20250727T172046Z
TZOFFSETFROM:+0000
TZOFFSETTO:+0000
END:STANDARD
END:VTIMEZONE
BEGIN:VEVENT
UID:67-51
DTSTAMP:20260423T172046Z
SUMMARY:Einweihung des Weihnachtsbaumes
LOCATION:Marktplatz Unterliederbach Liederbacher Straße
ORGANIZER;CN=Jürgen Lange:MAILTO:jl@juergen-lange.de
DTSTART;TZID=Europe/Berlin:20231202T180000
DTEND;TZID=Europe/Berlin:20231202T200000
X-ALT-DESC;FMTTYPE=TEXT/HTML:Der Unterliederbacher Weihnachtsbaum wird eing
 eweiht (oder eröffnet\, wie andere sagen). Das Ganze findet auf dem Markt
 platz in Unterliederbach in Unterliederbach statt.
CATEGORIES:Veranstaltung
URL;VALUE=URI:https://www.juergen-lange.de/mc-events/einweihung-des-weihnac
 htsbaumes
METHOD:PUBLISH
END:VEVENT
END:VCALENDAR