BEGIN:VCALENDAR
VERSION:2.0
PRODID:spatie/icalendar-generator
DESCRIPTION:Veranstaltungen von Jürgen Lange
X-WR-CALDESC:Veranstaltungen von Jürgen Lange
REFRESH-INTERVAL;VALUE=DURATION:PT1440M
X-PUBLISHED-TTL:PT1440M
BEGIN:VTIMEZONE
TZID:Europe/Berlin
BEGIN:DAYLIGHT
DTSTART:20230326T020000Z
TZOFFSETFROM:+0100
TZOFFSETTO:+0200
END:DAYLIGHT
BEGIN:STANDARD
DTSTART:20231029T030000Z
TZOFFSETFROM:+0200
TZOFFSETTO:+0100
END:STANDARD
BEGIN:DAYLIGHT
DTSTART:20240331T020000Z
TZOFFSETFROM:+0100
TZOFFSETTO:+0200
END:DAYLIGHT
END:VTIMEZONE
BEGIN:VTIMEZONE
TZID:UTC
BEGIN:STANDARD
DTSTART:20250727T154357Z
TZOFFSETFROM:+0000
TZOFFSETTO:+0000
END:STANDARD
END:VTIMEZONE
BEGIN:VEVENT
UID:65-49
DTSTAMP:20260423T154357Z
SUMMARY:Weihnachtsmarkt Frankfurt am Main Höchst
LOCATION:Schlossplatz und Altstadt Höchst Schlossplatz 16  Frankfurt am Ma
 in  65929
ORGANIZER;CN=Jürgen Lange:MAILTO:jl@juergen-lange.de
DTSTART;TZID=Europe/Berlin;VALUE=DATE:20231202
DTEND;TZID=Europe/Berlin;VALUE=DATE:20231204
X-ALT-DESC;FMTTYPE=TEXT/HTML:Der Höchster Weihnachtsmarkt findet auch 2023
  wieder statt. Am 2. und 3. Dezember wird auf dem Justinuskirchplatz\, dem
  Schlossplatz und im Burggraben gefeiert. Der Stadtteilweihnachtsmarkt wir
 d unter Leitung des Vereinsrings Höchst von Vereinen ausgerichtet. Öffnu
 ngszeiten: 2. Dezember 2023\, 13-22 Uhr 3. Dezember 2023\, 12-18 Uhr
CATEGORIES:Veranstaltung
URL;VALUE=URI:https://www.juergen-lange.de/mc-events/weihnachtsmarkt-frankf
 urt-am-main-hoechst
METHOD:PUBLISH
END:VEVENT
END:VCALENDAR