BEGIN:VCALENDAR
VERSION:2.0
PRODID:spatie/icalendar-generator
DESCRIPTION:Veranstaltungen von Jürgen Lange
X-WR-CALDESC:Veranstaltungen von Jürgen Lange
REFRESH-INTERVAL;VALUE=DURATION:PT1440M
X-PUBLISHED-TTL:PT1440M
BEGIN:VTIMEZONE
TZID:Europe/Berlin
BEGIN:DAYLIGHT
DTSTART:20230326T020000Z
TZOFFSETFROM:+0100
TZOFFSETTO:+0200
END:DAYLIGHT
BEGIN:STANDARD
DTSTART:20231029T030000Z
TZOFFSETFROM:+0200
TZOFFSETTO:+0100
END:STANDARD
BEGIN:DAYLIGHT
DTSTART:20240331T020000Z
TZOFFSETFROM:+0100
TZOFFSETTO:+0200
END:DAYLIGHT
END:VTIMEZONE
BEGIN:VTIMEZONE
TZID:UTC
BEGIN:STANDARD
DTSTART:20250727T230043Z
TZOFFSETFROM:+0000
TZOFFSETTO:+0000
END:STANDARD
END:VTIMEZONE
BEGIN:VEVENT
UID:63-47
DTSTAMP:20260423T230043Z
SUMMARY:Skat im Volkshaus Sossenheim
LOCATION:Volkshaus Sossenheim Siegener Straße 22  Frankfurt am Main  65936
ORGANIZER;CN=Jürgen Lange:MAILTO:jl@juergen-lange.de
DTSTART;TZID=Europe/Berlin:20231106T193000
DTEND;TZID=Europe/Berlin:20231106T203000
X-ALT-DESC;FMTTYPE=TEXT/HTML:Am Montag\, dem 06.11.2023\, 19:30 Uhr\, im Ve
 reinsraum des Volkshaus\, Siegener Str. 22\, wird wieder in geselliger Run
 de Skat gespielt. Wer schon immer Skat kennenlernen\, ausprobieren oder wi
 eder damit beginnen möchte\, ist herzlich eingeladen.
CATEGORIES:Spiel
URL;VALUE=URI:https://www.juergen-lange.de/mc-events/skat-im-volkshaus-soss
 enheim
METHOD:PUBLISH
END:VEVENT
END:VCALENDAR