BEGIN:VCALENDAR
VERSION:2.0
PRODID:spatie/icalendar-generator
DESCRIPTION:Veranstaltungen von Jürgen Lange
X-WR-CALDESC:Veranstaltungen von Jürgen Lange
REFRESH-INTERVAL;VALUE=DURATION:PT1440M
X-PUBLISHED-TTL:PT1440M
BEGIN:VTIMEZONE
TZID:Europe/Berlin
BEGIN:DAYLIGHT
DTSTART:20230326T020000Z
TZOFFSETFROM:+0100
TZOFFSETTO:+0200
END:DAYLIGHT
BEGIN:STANDARD
DTSTART:20231029T030000Z
TZOFFSETFROM:+0200
TZOFFSETTO:+0100
END:STANDARD
BEGIN:DAYLIGHT
DTSTART:20240331T020000Z
TZOFFSETFROM:+0100
TZOFFSETTO:+0200
END:DAYLIGHT
END:VTIMEZONE
BEGIN:VTIMEZONE
TZID:UTC
BEGIN:STANDARD
DTSTART:20250727T193124Z
TZOFFSETFROM:+0000
TZOFFSETTO:+0000
END:STANDARD
END:VTIMEZONE
BEGIN:VEVENT
UID:57-42
DTSTAMP:20260423T193124Z
SUMMARY:Jubiläumskonzert der \"Worzel\"
LOCATION:Stephanuskirche Liederbacher Straße 36b  Frankfurt am Main  65929
ORGANIZER;CN=Jürgen Lange:MAILTO:jl@juergen-lange.de
DTSTART;TZID=Europe/Berlin:20231118T170000
DTEND;TZID=Europe/Berlin:20231118T180000
X-ALT-DESC;FMTTYPE=TEXT/HTML:Am 18. November 2023 feiert der Frauenchor Lie
 dertafel\, genannt \"Worzel\"\, sein 40-Jähriges Jubiläum. Ab 17:00 Uhr 
 findet dazu ein Konzert in der Stephanuskirche\, Frankfurt am Main Unterli
 ederbach\, statt. Mit Sektempfang.
CATEGORIES:Musik
URL;VALUE=URI:https://www.juergen-lange.de/mc-events/jubilaeumskonzert-der-
 worzel
METHOD:PUBLISH
END:VEVENT
END:VCALENDAR