BEGIN:VCALENDAR
VERSION:2.0
PRODID:spatie/icalendar-generator
DESCRIPTION:Veranstaltungen von Jürgen Lange
X-WR-CALDESC:Veranstaltungen von Jürgen Lange
REFRESH-INTERVAL;VALUE=DURATION:PT1440M
X-PUBLISHED-TTL:PT1440M
BEGIN:VTIMEZONE
TZID:Europe/Berlin
BEGIN:DAYLIGHT
DTSTART:20230326T020000Z
TZOFFSETFROM:+0100
TZOFFSETTO:+0200
END:DAYLIGHT
BEGIN:STANDARD
DTSTART:20231029T030000Z
TZOFFSETFROM:+0200
TZOFFSETTO:+0100
END:STANDARD
BEGIN:DAYLIGHT
DTSTART:20240331T020000Z
TZOFFSETFROM:+0100
TZOFFSETTO:+0200
END:DAYLIGHT
END:VTIMEZONE
BEGIN:VTIMEZONE
TZID:UTC
BEGIN:STANDARD
DTSTART:20250728T001113Z
TZOFFSETFROM:+0000
TZOFFSETTO:+0000
END:STANDARD
END:VTIMEZONE
BEGIN:VEVENT
UID:55-40
DTSTAMP:20260424T001113Z
SUMMARY:Hundeschwimmen im Silobad
LOCATION:Silobad\, Frankfurt am Main Unterliederbach Hunsrückstraße 100  
 Frankfurt am Main  65929
ORGANIZER;CN=Jürgen Lange:MAILTO:jl@juergen-lange.de
DTSTART;TZID=Europe/Berlin:20230929T100000
DTEND;TZID=Europe/Berlin:20231003T180000
X-ALT-DESC;FMTTYPE=TEXT/HTML:Die Frankfurt BäderBetriebe freuen sich\, auc
 h in diesem Jahr wieder Hundeschwimmen anbieten zu können. Von Freitag\, 
 29. September\, bis einschließlich Dienstag\, 3. Oktober\, sind wieder al
 le Vierbeiner mit Frauchen und Herrchen in das Silobad in der Hunsrückstr
 aße 100 in Unterliederbach eingeladen\, einen Sprung ins kühle Nass zu w
 agen. Dieser Genuss bleibt allerdings den Hunden vorbehalten\,&amp;hellip\;
CATEGORIES:Hundeschwimmen
URL;VALUE=URI:https://www.juergen-lange.de/mc-events/hundeschwimmen-im-silo
 bad
METHOD:PUBLISH
END:VEVENT
END:VCALENDAR