BEGIN:VCALENDAR
VERSION:2.0
PRODID:spatie/icalendar-generator
DESCRIPTION:Veranstaltungen von Jürgen Lange
X-WR-CALDESC:Veranstaltungen von Jürgen Lange
REFRESH-INTERVAL;VALUE=DURATION:PT1440M
X-PUBLISHED-TTL:PT1440M
BEGIN:VTIMEZONE
TZID:Europe/Berlin
BEGIN:DAYLIGHT
DTSTART:20230326T020000Z
TZOFFSETFROM:+0100
TZOFFSETTO:+0200
END:DAYLIGHT
BEGIN:STANDARD
DTSTART:20231029T030000Z
TZOFFSETFROM:+0200
TZOFFSETTO:+0100
END:STANDARD
END:VTIMEZONE
BEGIN:VTIMEZONE
TZID:UTC
BEGIN:STANDARD
DTSTART:20250727T222214Z
TZOFFSETFROM:+0000
TZOFFSETTO:+0000
END:STANDARD
END:VTIMEZONE
BEGIN:VEVENT
UID:47-35
DTSTAMP:20260423T222214Z
SUMMARY:Ann Doka auf dem Museumsuferfest
LOCATION:
ORGANIZER;CN=Jürgen Lange:MAILTO:jl@juergen-lange.de
DTSTART;TZID=Europe/Berlin:20230827T150000
DTEND;TZID=Europe/Berlin:20230827T160000
X-ALT-DESC;FMTTYPE=TEXT/HTML:Ann Doka\, einst in den Taunus-Schluchten zu v
 erorten und dann gen Bremen entwischt\, spielt mit ihrer Frankfurter Band 
 am Sonntag\, dem 27. August 2023\, auf einem der größten und spektakulä
 rsten Kunst- und Kulturfestivals Europas\, dem Museumsuferfest! Von 15 bis
  16 Uhr spielen Ann Doka und Band Musik des New Country auf der Journal Fr
 ankfurt Bühne&amp;hellip\;
CATEGORIES:Musik
URL;VALUE=URI:https://www.juergen-lange.de/mc-events/ann-doka-auf-dem-museu
 msuferfest
METHOD:PUBLISH
END:VEVENT
END:VCALENDAR