BEGIN:VCALENDAR
VERSION:2.0
PRODID:spatie/icalendar-generator
DESCRIPTION:Veranstaltungen von Jürgen Lange
X-WR-CALDESC:Veranstaltungen von Jürgen Lange
REFRESH-INTERVAL;VALUE=DURATION:PT1440M
X-PUBLISHED-TTL:PT1440M
BEGIN:VTIMEZONE
TZID:Europe/Berlin
BEGIN:DAYLIGHT
DTSTART:20230326T020000Z
TZOFFSETFROM:+0100
TZOFFSETTO:+0200
END:DAYLIGHT
BEGIN:STANDARD
DTSTART:20231029T030000Z
TZOFFSETFROM:+0200
TZOFFSETTO:+0100
END:STANDARD
END:VTIMEZONE
BEGIN:VTIMEZONE
TZID:UTC
BEGIN:STANDARD
DTSTART:20250727T210326Z
TZOFFSETFROM:+0000
TZOFFSETTO:+0000
END:STANDARD
END:VTIMEZONE
BEGIN:VEVENT
UID:33-31
DTSTAMP:20260423T210326Z
SUMMARY:Tag des offenen Denkmals: Dorfkirche Unterliederbach
LOCATION:Dorfkirche Unterliederbach Heugasse 1  Frankfurt am Main  65929
ORGANIZER;CN=Jürgen Lange:MAILTO:jl@juergen-lange.de
DTSTART;TZID=Europe/Berlin:20230910T110000
DTEND;TZID=Europe/Berlin:20230910T160000
X-ALT-DESC;FMTTYPE=TEXT/HTML:Am Tag des offenen Denkmals ist auch die alte 
 Dorfkirche in Unterliederbach für Besichtigungen geöffnet. Ihr jetziges 
 Aussehen hat sie seit Beginn des 18: Jahrhunderts\, Ursprünge konnten fü
 r das späte 13. Jahrhundert festgestellt werden. Die Dorfkirche befindet 
 sich im alten Kern Unterliederbachs\, das bis zur Eingemeindung in die Sta
 dt Höchst am Main ein selbständiges Dorf&amp;hellip\;
CATEGORIES:Tag des offenen Denkmals
URL;VALUE=URI:https://www.juergen-lange.de/mc-events/tag-des-offenen-denkma
 ls-dorfkirche-unterliederbach
METHOD:PUBLISH
END:VEVENT
END:VCALENDAR