BEGIN:VCALENDAR
VERSION:2.0
PRODID:spatie/icalendar-generator
DESCRIPTION:Veranstaltungen von Jürgen Lange
X-WR-CALDESC:Veranstaltungen von Jürgen Lange
REFRESH-INTERVAL;VALUE=DURATION:PT1440M
X-PUBLISHED-TTL:PT1440M
BEGIN:VTIMEZONE
TZID:Europe/Berlin
BEGIN:STANDARD
DTSTART:20221030T030000Z
TZOFFSETFROM:+0200
TZOFFSETTO:+0100
END:STANDARD
BEGIN:DAYLIGHT
DTSTART:20230326T020000Z
TZOFFSETFROM:+0100
TZOFFSETTO:+0200
END:DAYLIGHT
BEGIN:STANDARD
DTSTART:20231029T030000Z
TZOFFSETFROM:+0200
TZOFFSETTO:+0100
END:STANDARD
END:VTIMEZONE
BEGIN:VTIMEZONE
TZID:UTC
BEGIN:STANDARD
DTSTART:20250728T000949Z
TZOFFSETFROM:+0000
TZOFFSETTO:+0000
END:STANDARD
END:VTIMEZONE
BEGIN:VEVENT
UID:32-30
DTSTAMP:20260424T000949Z
SUMMARY:Sicherheitsmobil in Nied
LOCATION:Rewe-Parkplatz Werner-Bockelmann-Straße 7  Frankfurt am Main  659
 34
ORGANIZER;CN=Jürgen Lange:MAILTO:jl@juergen-lange.de
DTSTART;TZID=Europe/Berlin:20230724T120000
DTEND;TZID=Europe/Berlin:20230724T140000
X-ALT-DESC;FMTTYPE=TEXT/HTML:Das Sicherheitsmobil der Stadtpolizei ist auch
  am Montag\, dem 24. Juli\, im Frankfurter Westen unterwegs. Zwei Tage nac
 h dem \"Auftritt\" beim Sicherheitsfrühstück in Sossenheim steht es von 
 12 bis 14 Uhr vor dem Rewe-Markt in der Werner-Bockelmann-Straße. Aus Sic
 ht der Landespolizei wird zudem die Schutzfrau vor Ort Fragen der Bürgeri
 nnen und Bürger beantworten\,
CATEGORIES:Veranstaltung
URL;VALUE=URI:https://www.juergen-lange.de/mc-events/sicherheitsmobil-in-ni
 ed
METHOD:PUBLISH
END:VEVENT
END:VCALENDAR