BEGIN:VCALENDAR
VERSION:2.0
PRODID:spatie/icalendar-generator
DESCRIPTION:Veranstaltungen von Jürgen Lange
X-WR-CALDESC:Veranstaltungen von Jürgen Lange
REFRESH-INTERVAL;VALUE=DURATION:PT1440M
X-PUBLISHED-TTL:PT1440M
BEGIN:VTIMEZONE
TZID:Europe/Berlin
BEGIN:STANDARD
DTSTART:20221030T030000Z
TZOFFSETFROM:+0200
TZOFFSETTO:+0100
END:STANDARD
BEGIN:DAYLIGHT
DTSTART:20230326T020000Z
TZOFFSETFROM:+0100
TZOFFSETTO:+0200
END:DAYLIGHT
BEGIN:STANDARD
DTSTART:20231029T030000Z
TZOFFSETFROM:+0200
TZOFFSETTO:+0100
END:STANDARD
END:VTIMEZONE
BEGIN:VTIMEZONE
TZID:UTC
BEGIN:STANDARD
DTSTART:20250728T031353Z
TZOFFSETFROM:+0000
TZOFFSETTO:+0000
END:STANDARD
END:VTIMEZONE
BEGIN:VEVENT
UID:28-26
DTSTAMP:20260424T031353Z
SUMMARY:Tiere im Wald - eine Waldlesung
LOCATION:
ORGANIZER;CN=Jürgen Lange:MAILTO:jl@juergen-lange.de
DTSTART;TZID=Europe/Berlin:20230716T170000
DTEND;TZID=Europe/Berlin:20230716T180000
X-ALT-DESC;FMTTYPE=TEXT/HTML:„Tiere im Wald“ lautet in diesem Jahr das 
 Motto der beliebten Waldlesung im Stadtwald. Am Sonntag\, 16. Juli\, ab 17
  Uhr gibt es an der Kobeltruhe an den Schwanheimer Wiesen bereits zum 20. 
 Mal Literatur und Musik zu hören und zu sehen. Die Vorleserinnen und Vorl
 eser werden von Hirschen erzählen\, aber auch von Rehen\, Wildschweinen\,
 &amp;hellip\;
CATEGORIES:Lesung
URL;VALUE=URI:https://www.juergen-lange.de/mc-events/tiere-im-wald-eine-wal
 dlesung
METHOD:PUBLISH
END:VEVENT
END:VCALENDAR