BEGIN:VCALENDAR
VERSION:2.0
PRODID:spatie/icalendar-generator
DESCRIPTION:Veranstaltungen von Jürgen Lange
X-WR-CALDESC:Veranstaltungen von Jürgen Lange
REFRESH-INTERVAL;VALUE=DURATION:PT1440M
X-PUBLISHED-TTL:PT1440M
BEGIN:VTIMEZONE
TZID:Europe/Berlin
BEGIN:STANDARD
DTSTART:20251026T030000Z
TZOFFSETFROM:+0200
TZOFFSETTO:+0100
END:STANDARD
BEGIN:DAYLIGHT
DTSTART:20260329T020000Z
TZOFFSETFROM:+0100
TZOFFSETTO:+0200
END:DAYLIGHT
BEGIN:STANDARD
DTSTART:20261025T030000Z
TZOFFSETFROM:+0200
TZOFFSETTO:+0100
END:STANDARD
END:VTIMEZONE
BEGIN:VTIMEZONE
TZID:UTC
BEGIN:STANDARD
DTSTART:20250725T185339Z
TZOFFSETFROM:+0000
TZOFFSETTO:+0000
END:STANDARD
END:VTIMEZONE
BEGIN:VEVENT
UID:279-242
DTSTAMP:20260421T185339Z
SUMMARY:Sicherheitsfrühstück und Fahrradcodierung
LOCATION:Edeka-Parkplatz Soonwaldstraße 4  Frankfurt am Main  65929
ORGANIZER;CN=Jürgen Lange:MAILTO:jl@juergen-lange.de
DTSTART;TZID=Europe/Berlin:20260425T100000
DTEND;TZID=Europe/Berlin:20260425T130000
X-ALT-DESC;FMTTYPE=TEXT/HTML:Der Regionale Präventionsrat Unterliederbach 
 lädt am Samstag\, 25. April 2026\, von 10 bis 13 Uhr zum Sicherheitsfrüh
 stück mit der freiwilligen Feuerwehr\, der Schutzfrau vor Ort der Polizei
  Hessen und den Seniorensicherheitsbeauftragten ein.
CATEGORIES:Veranstaltung
URL;VALUE=URI:https://www.juergen-lange.de/mc-events/sicherheitsfruehstueck
 -und-fahrradcodierung
METHOD:PUBLISH
END:VEVENT
END:VCALENDAR