BEGIN:VCALENDAR
VERSION:2.0
PRODID:spatie/icalendar-generator
DESCRIPTION:Veranstaltungen von Jürgen Lange
X-WR-CALDESC:Veranstaltungen von Jürgen Lange
REFRESH-INTERVAL;VALUE=DURATION:PT1440M
X-PUBLISHED-TTL:PT1440M
BEGIN:VTIMEZONE
TZID:Europe/Berlin
BEGIN:STANDARD
DTSTART:20221030T030000Z
TZOFFSETFROM:+0200
TZOFFSETTO:+0100
END:STANDARD
BEGIN:DAYLIGHT
DTSTART:20230326T020000Z
TZOFFSETFROM:+0100
TZOFFSETTO:+0200
END:DAYLIGHT
BEGIN:STANDARD
DTSTART:20231029T030000Z
TZOFFSETFROM:+0200
TZOFFSETTO:+0100
END:STANDARD
END:VTIMEZONE
BEGIN:VTIMEZONE
TZID:UTC
BEGIN:STANDARD
DTSTART:20250728T044947Z
TZOFFSETFROM:+0000
TZOFFSETTO:+0000
END:STANDARD
END:VTIMEZONE
BEGIN:VEVENT
UID:24-23
DTSTAMP:20260424T044947Z
SUMMARY:Wiesenfest an der Stephanuskirche und Sponsorenlauf
LOCATION:Stephanuskirche Liederbacher Straße 36b  Frankfurt am Main  65929
ORGANIZER;CN=Jürgen Lange:MAILTO:jl@juergen-lange.de
DTSTART;TZID=Europe/Berlin:20230715T143000
DTEND;TZID=Europe/Berlin:20230715T180000
X-ALT-DESC;FMTTYPE=TEXT/HTML:[caption id=\"attachment_3138\" align=\"alignc
 enter\" width=\"474\"] Die evangelische Gemeinde Frankfurt am Main Unterli
 ederbach feiert in und an der Stephanuskirche das Wiesenfest (Archivbild v
 on 2013).[/caption] Wiesenfest und Sponsorenlauf finden in Frankfurt am Ma
 in Unterliederbach in diesem Jahr parallel statt. Naheliegend\, da Wiese u
 nd Laufstrecke nahe beieinander liegen. Der Sponsorenlauf startet un 14:30
  Uhr\, die Siegerehrung soll um 16:30&amp;hellip\;
CATEGORIES:Veranstaltung
URL;VALUE=URI:https://www.juergen-lange.de/mc-events/wiesenfest-an-der-step
 hanuskirche-und-sponsorenlauf
METHOD:PUBLISH
END:VEVENT
END:VCALENDAR